BEGIN:VCALENDAR
VERSION:2.0
PRODID:-//Discovery Ministries, Inc. - ECPv6.9.0//NONSGML v1.0//EN
CALSCALE:GREGORIAN
METHOD:PUBLISH
X-WR-CALNAME:Discovery Ministries, Inc.
X-ORIGINAL-URL:https://dmi-nj.org
X-WR-CALDESC:Events for Discovery Ministries, Inc.
REFRESH-INTERVAL;VALUE=DURATION:PT1H
X-Robots-Tag:noindex
X-PUBLISHED-TTL:PT1H
BEGIN:VTIMEZONE
TZID:America/New_York
BEGIN:DAYLIGHT
TZOFFSETFROM:-0500
TZOFFSETTO:-0400
TZNAME:EDT
DTSTART:20230312T070000
END:DAYLIGHT
BEGIN:STANDARD
TZOFFSETFROM:-0400
TZOFFSETTO:-0500
TZNAME:EST
DTSTART:20231105T060000
END:STANDARD
END:VTIMEZONE
BEGIN:VEVENT
DTSTART;TZID=America/New_York:20230407T180000
DTEND;TZID=America/New_York:20230407T200000
DTSTAMP:20260419T123920
CREATED:20230329T050402Z
LAST-MODIFIED:20230329T050402Z
UID:8644-1680890400-1680897600@dmi-nj.org
SUMMARY:Good Friday Stations of the Cross - Friday\, April 7\, 2023 @6PM
DESCRIPTION:
URL:https://dmi-nj.org/event/good-friday-stations-of-the-cross-friday-april-7-2023-6pm/
LOCATION:Discovery House\, 3730 Richards Ave\, Mullica Township\, NJ\, 08037\, United States
ATTACH;FMTTYPE=image/jpeg:https://dmi-nj.org/wp-content/uploads/2023/03/DMI-GF-2023.jpg
END:VEVENT
BEGIN:VEVENT
DTSTART;TZID=America/New_York:20230416T130000
DTEND;TZID=America/New_York:20230416T170000
DTSTAMP:20260419T123920
CREATED:20230224T052419Z
LAST-MODIFIED:20230224T052726Z
UID:8609-1681650000-1681664400@dmi-nj.org
SUMMARY:49th Annual Dinner of Discovery Ministries
DESCRIPTION:Dear Friend of Discovery  Ministries: \nWe are pleased to invite you to the 49th Annual Dinner of Discovery Ministries on Sunday\, April 16\, 2023. \nThe event will start with a reception at 1 PM\, followed by a delicious dinner at 2 PM\, catered by Auletto’s Caterer\, located at 1849 Cooper St\, Deptford\, NJ 08096. \nOur theme for this year’s dinner is inspired by the words of Jesus\, “Let the children come to me and do not hinder them for the Kingdom of God belongs to such as these” (Mark 10). \nTo help bring this theme to life\, we have invited two special guests to share their inspirational stories with us. \nSamantha Siragusa\, President of Goose Flights\, Inc.\, and Michael S. Henry Jr.\, Director of Advocacy for the Pediatric Brain Tumor Foundation\, will be joining us to talk about their work and experiences. In particular\, Samantha will be introducing us to “Goose Flights\,” an organization dedicated to providing free jet charter transportation to individuals\, especially children with terminal illnesses\, for access to healthcare facilities\, hospitals\, and vacation destinations. This wonderful organization continues the legacy of Tony “Goose” Siragusa\, the 2000 Ravens Super Bowl Champion XXXV\, who had a passion for helping those in need. \nGoose Flights is powered by the Titan Aviation Group and reminds us to never stop dreaming big! \nWe would be delighted if you could join us for this special event.\nThe ticket donation for the evening is $70. \n This is an opportunity to come together with like-minded individuals to support a great cause and to hear the inspiring stories of our special guests. \nWe hope to see you there! \nWith grateful hearts\, \nMichael Henry\, Esq. \nChair\,  Discovery Ministries  Board \nMsgr. Michael Mannion \nSpiritual Director \nDiscovery Ministries  \nTO PURCHASE TICKETS ONLINE PLEASE VISIT : \nhttps://dmi-nj.org/donations/49th-annual-dinner-tickets/
URL:https://dmi-nj.org/event/49th-annual-dinner-of-discovery-ministries/
LOCATION:Auletto Caterers\, 1849 Cooper St.\, Deptford Twp\, NJ\, 08096\, United States
ATTACH;FMTTYPE=image/png:https://dmi-nj.org/wp-content/uploads/2023/02/D49-23-TICKETS.png
END:VEVENT
BEGIN:VEVENT
DTSTART;TZID=America/New_York:20230420T180000
DTEND;TZID=America/New_York:20230424T200000
DTSTAMP:20260419T123920
CREATED:20230420T202747Z
LAST-MODIFIED:20230420T202747Z
UID:8694-1682013600-1682366400@dmi-nj.org
SUMMARY:Cabrini Movie - Wednesday\, April 24\, 2023 @6:00PM
DESCRIPTION:
URL:https://dmi-nj.org/event/cabrini-movie-wednesday-april-24-2023-600pm/
LOCATION:REGAL CROSS KEYS\, 151 American Blvd\, Turnersville\, NJ\, 08012
ATTACH;FMTTYPE=image/jpeg:https://dmi-nj.org/wp-content/uploads/2023/04/Cabrini-Movie_Monday_April_24_-2023_6PM.jpg
END:VEVENT
BEGIN:VEVENT
DTSTART;TZID=America/New_York:20230421T180000
DTEND;TZID=America/New_York:20230423T150000
DTSTAMP:20260419T123920
CREATED:20230420T203045Z
LAST-MODIFIED:20230420T203045Z
UID:8698-1682100000-1682262000@dmi-nj.org
SUMMARY:A Very Special Once in a Lifetime Weekend Away 4/21-4/23/23
DESCRIPTION:
URL:https://dmi-nj.org/event/a-very-special-once-in-a-lifetime-weekend-away-4-21-4-23-23/
LOCATION:Discovery House\, 3730 Richards Ave\, Mullica Township\, NJ\, 08037\, United States
ATTACH;FMTTYPE=image/jpeg:https://dmi-nj.org/wp-content/uploads/2023/04/A_Very_Special_Once_in_a-Lifetime_Weekend_Away_4-21_4-23-23.jpg
END:VEVENT
END:VCALENDAR