BEGIN:VCALENDAR
VERSION:2.0
PRODID:-//Discovery Ministries, Inc. - ECPv6.9.0//NONSGML v1.0//EN
CALSCALE:GREGORIAN
METHOD:PUBLISH
X-WR-CALNAME:Discovery Ministries, Inc.
X-ORIGINAL-URL:https://dmi-nj.org
X-WR-CALDESC:Events for Discovery Ministries, Inc.
REFRESH-INTERVAL;VALUE=DURATION:PT1H
X-Robots-Tag:noindex
X-PUBLISHED-TTL:PT1H
BEGIN:VTIMEZONE
TZID:America/New_York
BEGIN:DAYLIGHT
TZOFFSETFROM:-0500
TZOFFSETTO:-0400
TZNAME:EDT
DTSTART:20220313T070000
END:DAYLIGHT
BEGIN:STANDARD
TZOFFSETFROM:-0400
TZOFFSETTO:-0500
TZNAME:EST
DTSTART:20221106T060000
END:STANDARD
END:VTIMEZONE
BEGIN:VEVENT
DTSTART;TZID=America/New_York:20220811T180000
DTEND;TZID=America/New_York:20220811T200000
DTSTAMP:20260421T220419
CREATED:20220727T220436Z
LAST-MODIFIED:20220727T220436Z
UID:8021-1660240800-1660248000@dmi-nj.org
SUMMARY:LIGHTS OF THE ROUND TABLE  PARTNERS MEETING
DESCRIPTION:
URL:https://dmi-nj.org/event/lights-of-the-round-table-partners-meeting/
LOCATION:Discovery House\, 3730 Richards Ave\, Mullica Township\, NJ\, 08037\, United States
ATTACH;FMTTYPE=image/jpeg:https://dmi-nj.org/wp-content/uploads/2022/07/LORT-PM.jpg
END:VEVENT
BEGIN:VEVENT
DTSTART;TZID=America/New_York:20220815T170000
DTEND;TZID=America/New_York:20220815T203000
DTSTAMP:20260421T220419
CREATED:20220727T223325Z
LAST-MODIFIED:20220727T223439Z
UID:8028-1660582800-1660595400@dmi-nj.org
SUMMARY:Feast Of The Assumption Of Mary ~ Mass & Concert Monday Aug -15 5pm
DESCRIPTION:
URL:https://dmi-nj.org/event/feast-of-the-assumption-of-mary-mass-concert-monday-aug-15-5pm/
LOCATION:Discovery House\, 3730 Richards Ave\, Mullica Township\, NJ\, 08037\, United States
ATTACH;FMTTYPE=image/jpeg:https://dmi-nj.org/wp-content/uploads/2022/07/Assumption-Mass-and-Barb-Dever-8-15-22.jpg
END:VEVENT
BEGIN:VEVENT
DTSTART;TZID=America/New_York:20220819T130000
DTEND;TZID=America/New_York:20220819T140000
DTSTAMP:20260421T220419
CREATED:20220727T222355Z
LAST-MODIFIED:20220818T144404Z
UID:8024-1660914000-1660917600@dmi-nj.org
SUMMARY:Dr. Alveda King - Niece of Dr. Martin Luther King\, JR. & Pro-Life Speaker
DESCRIPTION:
URL:https://dmi-nj.org/event/dr-alveda-king-niece-of-dr-martin-luther-king-jr-pro-life-speaker/
LOCATION:St. Mary Magdalen Church\, 2400 N. Providence Rd\, Media\, PA\, 19063\, United States
ATTACH;FMTTYPE=image/jpeg:https://dmi-nj.org/wp-content/uploads/2022/07/Dr.-Alveda-King-Event4.jpg
END:VEVENT
END:VCALENDAR