BEGIN:VCALENDAR
VERSION:2.0
PRODID:-//Discovery Ministries, Inc. - ECPv6.9.0//NONSGML v1.0//EN
CALSCALE:GREGORIAN
METHOD:PUBLISH
X-ORIGINAL-URL:https://dmi-nj.org
X-WR-CALDESC:Events for Discovery Ministries, Inc.
REFRESH-INTERVAL;VALUE=DURATION:PT1H
X-Robots-Tag:noindex
X-PUBLISHED-TTL:PT1H
BEGIN:VTIMEZONE
TZID:America/New_York
BEGIN:DAYLIGHT
TZOFFSETFROM:-0500
TZOFFSETTO:-0400
TZNAME:EDT
DTSTART:20220313T070000
END:DAYLIGHT
BEGIN:STANDARD
TZOFFSETFROM:-0400
TZOFFSETTO:-0500
TZNAME:EST
DTSTART:20221106T060000
END:STANDARD
END:VTIMEZONE
BEGIN:VEVENT
DTSTART;TZID=America/New_York:20220605T103000
DTEND;TZID=America/New_York:20220605T120000
DTSTAMP:20260422T024727
CREATED:20220525T205600Z
LAST-MODIFIED:20220525T205600Z
UID:7996-1654425000-1654430400@dmi-nj.org
SUMMARY:Memorial Mass & Garden Dedication Anniversary Sunday June 5\, 10:30am
DESCRIPTION:
URL:https://dmi-nj.org/event/memorial-mass-garden-dedication-anniversary-sunday-june-5-1030am/
LOCATION:Discovery House\, 3730 Richards Ave\, Mullica Township\, NJ\, 08037\, United States
ATTACH;FMTTYPE=image/jpeg:https://dmi-nj.org/wp-content/uploads/2022/05/FB-6-05-22.jpg
END:VEVENT
BEGIN:VEVENT
DTSTART;TZID=America/New_York:20220611T083000
DTEND;TZID=America/New_York:20220611T153000
DTSTAMP:20260422T024727
CREATED:20220513T152827Z
LAST-MODIFIED:20220513T152827Z
UID:7953-1654936200-1654961400@dmi-nj.org
SUMMARY:Sons of the Father Men's Pentecost Retreat - Sat June 11\, 2022
DESCRIPTION:
URL:https://dmi-nj.org/event/sons-of-the-father-mens-pentecost-retreat-sat-june-11-2022/
LOCATION:Discovery House\, 3730 Richards Ave\, Mullica Township\, NJ\, 08037\, United States
ATTACH;FMTTYPE=image/jpeg:https://dmi-nj.org/wp-content/uploads/2022/05/DH-Pentecost-Retreat-Flier-.jpg
END:VEVENT
BEGIN:VEVENT
DTSTART;TZID=America/New_York:20220624T183000
DTEND;TZID=America/New_York:20220624T203000
DTSTAMP:20260422T024727
CREATED:20220525T211024Z
LAST-MODIFIED:20220611T022034Z
UID:8002-1656095400-1656102600@dmi-nj.org
SUMMARY:"A FOOLS ODYSSEY" SOLO SHOW BY DAVID TYSON - FRI JUNE 24\, 2022 6:30PM
DESCRIPTION:
URL:https://dmi-nj.org/event/a-fools-odyssey-solo-show-by-david-tyson-sat-june-25-2022-6pm/
LOCATION:Discovery House\, 3730 Richards Ave\, Mullica Township\, NJ\, 08037\, United States
ATTACH;FMTTYPE=image/jpeg:https://dmi-nj.org/wp-content/uploads/2022/05/FoolsOdyssey.jpg
END:VEVENT
END:VCALENDAR