BEGIN:VCALENDAR
VERSION:2.0
PRODID:-//Discovery Ministries, Inc. - ECPv6.9.0//NONSGML v1.0//EN
CALSCALE:GREGORIAN
METHOD:PUBLISH
X-ORIGINAL-URL:https://dmi-nj.org
X-WR-CALDESC:Events for Discovery Ministries, Inc.
REFRESH-INTERVAL;VALUE=DURATION:PT1H
X-Robots-Tag:noindex
X-PUBLISHED-TTL:PT1H
BEGIN:VTIMEZONE
TZID:America/New_York
BEGIN:DAYLIGHT
TZOFFSETFROM:-0500
TZOFFSETTO:-0400
TZNAME:EDT
DTSTART:20210314T070000
END:DAYLIGHT
BEGIN:STANDARD
TZOFFSETFROM:-0400
TZOFFSETTO:-0500
TZNAME:EST
DTSTART:20211107T060000
END:STANDARD
END:VTIMEZONE
BEGIN:VEVENT
DTSTART;TZID=America/New_York:20211204T083000
DTEND;TZID=America/New_York:20211204T153000
DTSTAMP:20260424T103916
CREATED:20211116T013813Z
LAST-MODIFIED:20211116T013813Z
UID:7643-1638606600-1638631800@dmi-nj.org
SUMMARY:Sons Of The Father Men's Retreat - Advent: Preparing men for  Christ's coming through our ancient traditions
DESCRIPTION:
URL:https://dmi-nj.org/event/sons-of-the-father-mens-retreat-advent-preparing-men-for-christs-coming-through-our-ancient-traditions/
LOCATION:Discovery House\, 3730 Richards Ave\, Mullica Township\, NJ\, 08037\, United States
ATTACH;FMTTYPE=image/jpeg:https://dmi-nj.org/wp-content/uploads/2021/11/Advent-retreat-flyer-120421.jpg
END:VEVENT
BEGIN:VEVENT
DTSTART;TZID=America/New_York:20211205T140000
DTEND;TZID=America/New_York:20211205T160000
DTSTAMP:20260424T103916
CREATED:20211116T014603Z
LAST-MODIFIED:20211116T014603Z
UID:7646-1638712800-1638720000@dmi-nj.org
SUMMARY:An Afternoon of Remembrance and Healing Mass celebrated by Msgr\, Michael Mannion And Fr. Allain Caparas
DESCRIPTION:
URL:https://dmi-nj.org/event/an-afternoon-of-remembrance-and-healing-mass-celebrated-by-msgr-michael-mannion-and-fr-allain-caparas/
LOCATION:Our Lady of Lourdes RC Church\, 500 Greentree Road\, Glassboro\, NJ\, NJ\, United States
ATTACH;FMTTYPE=image/jpeg:https://dmi-nj.org/wp-content/uploads/2021/11/Healing-Mass.jpg
END:VEVENT
BEGIN:VEVENT
DTSTART;TZID=America/New_York:20211209T170000
DTEND;TZID=America/New_York:20211209T200000
DTSTAMP:20260424T103916
CREATED:20211116T020254Z
LAST-MODIFIED:20211116T020254Z
UID:7656-1639069200-1639080000@dmi-nj.org
SUMMARY:Discovery Forum -The American Dream- The Legacy and Urgency of the Dream Today - Speaker Dr. Alveda King Niece of Dr. Martin Luther King\, Jr.
DESCRIPTION:
URL:https://dmi-nj.org/event/discovery-forum-the-american-dream-the-legacy-and-urgency-of-the-dream-today-speaker-dr-alveda-king-niece-of-dr-martin-luther-king-jr/
LOCATION:Woodcrest Country Club\, 300 E Evesham Rd\, Cherry Hill\, NJ\, 08003\, United States
ATTACH;FMTTYPE=image/jpeg:https://dmi-nj.org/wp-content/uploads/2021/11/Discovery-Forum-Dr-Alveda-King-12.jpg
END:VEVENT
BEGIN:VEVENT
DTSTART;TZID=America/New_York:20211209T180000
DTEND;TZID=America/New_York:20211209T200000
DTSTAMP:20260424T103916
CREATED:20211116T015651Z
LAST-MODIFIED:20211116T015651Z
UID:7653-1639072800-1639080000@dmi-nj.org
SUMMARY:Open House and Holy Rosary Thursday December 9\, 2021 6pm
DESCRIPTION:
URL:https://dmi-nj.org/event/open-house-and-holy-rosary-thursday-december-9-2021-6pm/
LOCATION:Discovery House\, 3730 Richards Ave\, Mullica Township\, NJ\, 08037\, United States
ATTACH;FMTTYPE=image/jpeg:https://dmi-nj.org/wp-content/uploads/2021/11/Rosary-Reflection-w-Chosen-120921.jpg
END:VEVENT
BEGIN:VEVENT
DTSTART;TZID=America/New_York:20211224T160000
DTEND;TZID=America/New_York:20211224T170000
DTSTAMP:20260424T103916
CREATED:20211221T163903Z
LAST-MODIFIED:20211221T164846Z
UID:7758-1640361600-1640365200@dmi-nj.org
SUMMARY:Christmas Eve Mass at Discovery House With Father Mike Friday Dec 24 - 4pm
DESCRIPTION:
URL:https://dmi-nj.org/event/christmas-eve-mass-at-discovery-house-with-father-mike-friday-dec-24-4pm/
LOCATION:Discovery House\, 3730 Richards Ave\, Mullica Township\, NJ\, 08037\, United States
ATTACH;FMTTYPE=image/jpeg:https://dmi-nj.org/wp-content/uploads/2021/12/Christmas-2021-12-24_4pm_-1.jpg
END:VEVENT
BEGIN:VEVENT
DTSTART;TZID=America/New_York:20211230T183000
DTEND;TZID=America/New_York:20211230T213000
DTSTAMP:20260424T103916
CREATED:20211116T015334Z
LAST-MODIFIED:20211116T123519Z
UID:7650-1640889000-1640899800@dmi-nj.org
SUMMARY:An Adapted Christmas Carol Story-Theatre ~ Light And Shadow
DESCRIPTION:
URL:https://dmi-nj.org/event/an-adapted-christmas-carol-story-theatre-light-and-shadow/
LOCATION:Discovery House\, 3730 Richards Ave\, Mullica Township\, NJ\, 08037\, United States
ATTACH;FMTTYPE=image/jpeg:https://dmi-nj.org/wp-content/uploads/2021/11/ChristmasCarol.Poster_RPN.jpg
END:VEVENT
END:VCALENDAR