BEGIN:VCALENDAR
VERSION:2.0
PRODID:-//Discovery Ministries, Inc. - ECPv6.9.0//NONSGML v1.0//EN
CALSCALE:GREGORIAN
METHOD:PUBLISH
X-WR-CALNAME:Discovery Ministries, Inc.
X-ORIGINAL-URL:https://dmi-nj.org
X-WR-CALDESC:Events for Discovery Ministries, Inc.
REFRESH-INTERVAL;VALUE=DURATION:PT1H
X-Robots-Tag:noindex
X-PUBLISHED-TTL:PT1H
BEGIN:VTIMEZONE
TZID:America/New_York
BEGIN:DAYLIGHT
TZOFFSETFROM:-0500
TZOFFSETTO:-0400
TZNAME:EDT
DTSTART:20210314T070000
END:DAYLIGHT
BEGIN:STANDARD
TZOFFSETFROM:-0400
TZOFFSETTO:-0500
TZNAME:EST
DTSTART:20211107T060000
END:STANDARD
END:VTIMEZONE
BEGIN:VEVENT
DTSTART;TZID=America/New_York:20211106T090000
DTEND;TZID=America/New_York:20211106T150000
DTSTAMP:20260424T120856
CREATED:20211013T021003Z
LAST-MODIFIED:20211013T021003Z
UID:7578-1636189200-1636210800@dmi-nj.org
SUMMARY:Discovery Ministries Mens Retreat - Saturday\, Nov\, 6\, 2021 @9am-3pm
DESCRIPTION:
URL:https://dmi-nj.org/event/discovery-ministries-mens-retreat-saturday-nov-6-2021-9am-3pm/
LOCATION:Discovery House\, 3730 Richards Ave\, Mullica Township\, NJ\, 08037\, United States
ATTACH;FMTTYPE=image/jpeg:https://dmi-nj.org/wp-content/uploads/2021/10/Mens-Retreat-11062021.jpg
END:VEVENT
BEGIN:VEVENT
DTSTART;TZID=America/New_York:20211107T103000
DTEND;TZID=America/New_York:20211107T103000
DTSTAMP:20260424T120856
CREATED:20211013T020648Z
LAST-MODIFIED:20211013T020648Z
UID:7575-1636281000-1636281000@dmi-nj.org
SUMMARY:Mass of Remembrance\, Sunday Nov. 7\, 2021 @10:30am
DESCRIPTION:
URL:https://dmi-nj.org/event/mass-of-remembrance-sunday-nov-7-2021-1030am/
LOCATION:Discovery House\, 3730 Richards Ave\, Mullica Township\, NJ\, 08037\, United States
ATTACH;FMTTYPE=image/jpeg:https://dmi-nj.org/wp-content/uploads/2021/10/Mass-of-Remembrance-11072021.jpg
END:VEVENT
BEGIN:VEVENT
DTSTART;TZID=America/New_York:20211108T170000
DTEND;TZID=America/New_York:20211108T200000
DTSTAMP:20260424T120856
CREATED:20211030T163853Z
LAST-MODIFIED:20211030T164416Z
UID:7609-1636390800-1636401600@dmi-nj.org
SUMMARY:Discovery Forum – Guests: KYW Radio Journalists @  Woodcrest CC – Monday\, November 8\, 2021 @5pm ( will also be Livestreamed )
DESCRIPTION:
URL:https://dmi-nj.org/event/discovery-forum-kyw-radio-journalists-livesteam-from-woodcrest-cc-monday-november-8-2021-5pm/
LOCATION:Woodcrest Country Club\, 300 E Evesham Rd\, Cherry Hill\, NJ\, 08003\, United States
ATTACH;FMTTYPE=image/jpeg:https://dmi-nj.org/wp-content/uploads/2021/10/KYW-Woodcrest.jpg
END:VEVENT
BEGIN:VEVENT
DTSTART;TZID=America/New_York:20211111T180000
DTEND;TZID=America/New_York:20211111T200000
DTSTAMP:20260424T120856
CREATED:20210924T181125Z
LAST-MODIFIED:20210924T181950Z
UID:7564-1636653600-1636660800@dmi-nj.org
SUMMARY:Open House & Holy Rosary Thursday Nov 11\, 2021 @ 6pm
DESCRIPTION:
URL:https://dmi-nj.org/event/open-house-holy-rosary-thursday-nov-11-2021-6pm/
LOCATION:Discovery House\, 3730 Richards Ave\, Mullica Township\, NJ\, 08037\, United States
ATTACH;FMTTYPE=image/jpeg:https://dmi-nj.org/wp-content/uploads/2021/09/Rosary-Reflection-w-Chosen-111121-1.jpg
END:VEVENT
BEGIN:VEVENT
DTSTART;VALUE=DATE:20211118
DTEND;VALUE=DATE:20211122
DTSTAMP:20260424T120856
CREATED:20210518T192303Z
LAST-MODIFIED:20210518T193528Z
UID:7137-1637193600-1637539199@dmi-nj.org
SUMMARY:Healing Retreat For Veterans - November 18-21\, 2021
DESCRIPTION:Healing Retreat For Veterans – November 18-21\, 2021
URL:https://dmi-nj.org/event/healing-retreat-for-veterans-november-18-21-2021/
LOCATION:Discovery House\, 3730 Richards Ave\, Mullica Township\, NJ\, 08037\, United States
ATTACH;FMTTYPE=image/jpeg:https://dmi-nj.org/wp-content/uploads/2021/05/Veterans-Retreat-11-18-21.jpg
END:VEVENT
END:VCALENDAR