BEGIN:VCALENDAR
VERSION:2.0
PRODID:-//Discovery Ministries, Inc. - ECPv6.9.0//NONSGML v1.0//EN
CALSCALE:GREGORIAN
METHOD:PUBLISH
X-WR-CALNAME:Discovery Ministries, Inc.
X-ORIGINAL-URL:https://dmi-nj.org
X-WR-CALDESC:Events for Discovery Ministries, Inc.
REFRESH-INTERVAL;VALUE=DURATION:PT1H
X-Robots-Tag:noindex
X-PUBLISHED-TTL:PT1H
BEGIN:VTIMEZONE
TZID:America/New_York
BEGIN:DAYLIGHT
TZOFFSETFROM:-0500
TZOFFSETTO:-0400
TZNAME:EDT
DTSTART:20210314T070000
END:DAYLIGHT
BEGIN:STANDARD
TZOFFSETFROM:-0400
TZOFFSETTO:-0500
TZNAME:EST
DTSTART:20211107T060000
END:STANDARD
END:VTIMEZONE
BEGIN:VEVENT
DTSTART;TZID=America/New_York:20210812T180000
DTEND;TZID=America/New_York:20210812T200000
DTSTAMP:20260424T165458
CREATED:20210728T163208Z
LAST-MODIFIED:20210728T163254Z
UID:7482-1628791200-1628798400@dmi-nj.org
SUMMARY:Holy Rosary and Movie Night Thursday August 12\, 2021 6pm
DESCRIPTION:
URL:https://dmi-nj.org/event/holy-rosary-and-movie-night-thursday-august-12-2021-6pm/
LOCATION:Discovery House\, 3730 Richards Ave\, Mullica Township\, NJ\, 08037\, United States
ATTACH;FMTTYPE=image/jpeg:https://dmi-nj.org/wp-content/uploads/2021/07/Rosary-Reflection-w-Chosen-081221.jpg
END:VEVENT
BEGIN:VEVENT
DTSTART;TZID=America/New_York:20210814T170000
DTEND;TZID=America/New_York:20210814T180000
DTSTAMP:20260424T165458
CREATED:20210616T225441Z
LAST-MODIFIED:20210616T225441Z
UID:7442-1628960400-1628964000@dmi-nj.org
SUMMARY:Mass in Honor of Blessed Michael McGivney Sat Aug 14th 5pm
DESCRIPTION:
URL:https://dmi-nj.org/event/mass-in-honor-of-blessed-michael-mcgivney-sat-aug-14th-5pm/
LOCATION:Discovery House\, 3730 Richards Ave\, Mullica Township\, NJ\, 08037\, United States
ATTACH;FMTTYPE=image/jpeg:https://dmi-nj.org/wp-content/uploads/2021/06/Blessed-Michael-McGivney.jpg
END:VEVENT
BEGIN:VEVENT
DTSTART;TZID=America/New_York:20210821T120000
DTEND;TZID=America/New_York:20210821T170000
DTSTAMP:20260424T165458
CREATED:20210616T230812Z
LAST-MODIFIED:20210616T230812Z
UID:7448-1629547200-1629565200@dmi-nj.org
SUMMARY:Discovery Ministries/Knights of Columbus Picnic - Saturday\, August 21\, 12-5PM
DESCRIPTION:
URL:https://dmi-nj.org/event/discovery-ministries-knights-of-columbus-picnic-saturday-august-21-12-5pm/
LOCATION:Discovery House\, 3730 Richards Ave\, Mullica Township\, NJ\, 08037\, United States
ATTACH;FMTTYPE=image/jpeg:https://dmi-nj.org/wp-content/uploads/2021/06/KofC-Picnic-8212021.jpg
END:VEVENT
BEGIN:VEVENT
DTSTART;TZID=America/New_York:20210828T160000
DTEND;TZID=America/New_York:20210828T190000
DTSTAMP:20260424T165458
CREATED:20210728T162147Z
LAST-MODIFIED:20210728T162147Z
UID:7476-1630166400-1630177200@dmi-nj.org
SUMMARY:DISCOVERY MINISTRIES PRESENTS: A Summer Harp Concert  – SATURDAY\, AUGUST 28\, 4PM
DESCRIPTION:
URL:https://dmi-nj.org/event/discovery-ministries-presents-a-summer-harp-concert-saturday-august-28-4pm/
LOCATION:Discovery House\, 3730 Richards Ave\, Mullica Township\, NJ\, 08037\, United States
ATTACH;FMTTYPE=image/jpeg:https://dmi-nj.org/wp-content/uploads/2021/07/Harp-Concert-Made-with-PosterMyWall-5.jpg
END:VEVENT
END:VCALENDAR