BEGIN:VCALENDAR
VERSION:2.0
PRODID:-//Discovery Ministries, Inc. - ECPv6.9.0//NONSGML v1.0//EN
CALSCALE:GREGORIAN
METHOD:PUBLISH
X-ORIGINAL-URL:https://dmi-nj.org
X-WR-CALDESC:Events for Discovery Ministries, Inc.
REFRESH-INTERVAL;VALUE=DURATION:PT1H
X-Robots-Tag:noindex
X-PUBLISHED-TTL:PT1H
BEGIN:VTIMEZONE
TZID:America/New_York
BEGIN:DAYLIGHT
TZOFFSETFROM:-0500
TZOFFSETTO:-0400
TZNAME:EDT
DTSTART:20210314T070000
END:DAYLIGHT
BEGIN:STANDARD
TZOFFSETFROM:-0400
TZOFFSETTO:-0500
TZNAME:EST
DTSTART:20211107T060000
END:STANDARD
END:VTIMEZONE
BEGIN:VEVENT
DTSTART;TZID=America/New_York:20210321T120000
DTEND;TZID=America/New_York:20210321T130000
DTSTAMP:20260425T083247
CREATED:20210201T154453Z
LAST-MODIFIED:20210318T231313Z
UID:6697-1616328000-1616331600@dmi-nj.org
SUMMARY:Sunday Mass with Father Mike @12PM
DESCRIPTION:Join us for mass led by Father Mike! \nChrist the Redeemer Church \n318 Carl Hasselhan Drive Atco\, NJ 08004 \n Sunday March 21\, 2021 \n@12:00PM
URL:https://dmi-nj.org/event/mass-with-father-mike-8am-2/
LOCATION:Christ the Redeemer Church\, 318 Carl Hasselhan Drive\, Atco\, NJ\, 08004\, United States
ATTACH;FMTTYPE=image/jpeg:https://dmi-nj.org/wp-content/uploads/2020/12/IMG_2213.jpg
END:VEVENT
BEGIN:VEVENT
DTSTART;TZID=America/New_York:20210325T000000
DTEND;TZID=America/New_York:20210328T000000
DTSTAMP:20260425T083247
CREATED:20201229T164717Z
LAST-MODIFIED:20201229T164717Z
UID:6466-1616630400-1616889600@dmi-nj.org
SUMMARY:King's Men Retreat
DESCRIPTION:Join Mark Houck for a weekend of prayer and healing! \n“The weekend has an experiential element to it\, which will allow men to use their God-given gift of masculinity to glorify God\, build each other up\, and bring further healing and freedom to their lives.” – MH \nIf you would like to register for this retreat\, please go to: samsonretreat.com 
URL:https://dmi-nj.org/event/kings-men-retreat/
LOCATION:Discovery House\, 3730 Richards Ave\, Mullica Township\, NJ\, 08037\, United States
END:VEVENT
BEGIN:VEVENT
DTSTART;TZID=America/New_York:20210328T080000
DTEND;TZID=America/New_York:20210328T080000
DTSTAMP:20260425T083247
CREATED:20210325T134808Z
LAST-MODIFIED:20210325T180248Z
UID:6826-1616918400-1616918400@dmi-nj.org
SUMMARY:Palm Sunday Mass with Father Mike @8:00 AM
DESCRIPTION:
URL:https://dmi-nj.org/event/palm-sunday-mass/
LOCATION:Christ the Redeemer Church\, 318 Carl Hasselhan Drive\, Atco\, NJ\, 08004\, United States
END:VEVENT
END:VCALENDAR