BEGIN:VCALENDAR
VERSION:2.0
PRODID:-//Discovery Ministries, Inc. - ECPv6.9.0//NONSGML v1.0//EN
CALSCALE:GREGORIAN
METHOD:PUBLISH
X-ORIGINAL-URL:https://dmi-nj.org
X-WR-CALDESC:Events for Discovery Ministries, Inc.
REFRESH-INTERVAL;VALUE=DURATION:PT1H
X-Robots-Tag:noindex
X-PUBLISHED-TTL:PT1H
BEGIN:VTIMEZONE
TZID:America/New_York
BEGIN:DAYLIGHT
TZOFFSETFROM:-0500
TZOFFSETTO:-0400
TZNAME:EDT
DTSTART:20230312T070000
END:DAYLIGHT
BEGIN:STANDARD
TZOFFSETFROM:-0400
TZOFFSETTO:-0500
TZNAME:EST
DTSTART:20231105T060000
END:STANDARD
END:VTIMEZONE
BEGIN:VEVENT
DTSTART;TZID=America/New_York:20230603T160000
DTEND;TZID=America/New_York:20230603T183000
DTSTAMP:20260419T093555
CREATED:20230214T065250Z
LAST-MODIFIED:20230320T052056Z
UID:8593-1685808000-1685817000@dmi-nj.org
SUMMARY:ARRAY of HOPE – LIVE Concert June 3\, 2023
DESCRIPTION:Get ready for a powerful and entertaining concert that can change lives and touch hearts.\nJoin us on Sat – June 3\, 2023 from 4:00 PM to 6:30 PM\nat Discovery House\, 3730 Richard’s Ave\, Mullica Twp.\, NJ 08037. \nThis is an event you don’t want to miss!\nEnjoy an evening of music that will uplift your soul and bring joy to your heart. \nThe suggested donation for this concert is only $10. \nCLICK HERE FOR TICKETS \nSo gather your friends and family and come share the experience. We can’t wait to see you there! \n[vc_video link=’https://vimeo.com/805271847′]
URL:https://dmi-nj.org/event/array-of-hope-live-concert-june-3-2023/
LOCATION:Discovery House\, 3730 Richards Ave\, Mullica Township\, NJ\, 08037\, United States
ATTACH;FMTTYPE=image/jpeg:https://dmi-nj.org/wp-content/uploads/2023/02/aroh.jpg
END:VEVENT
END:VCALENDAR