BEGIN:VCALENDAR
VERSION:2.0
PRODID:-//Discovery Ministries, Inc. - ECPv6.9.0//NONSGML v1.0//EN
CALSCALE:GREGORIAN
METHOD:PUBLISH
X-ORIGINAL-URL:https://dmi-nj.org
X-WR-CALDESC:Events for Discovery Ministries, Inc.
REFRESH-INTERVAL;VALUE=DURATION:PT1H
X-Robots-Tag:noindex
X-PUBLISHED-TTL:PT1H
BEGIN:VTIMEZONE
TZID:America/New_York
BEGIN:DAYLIGHT
TZOFFSETFROM:-0500
TZOFFSETTO:-0400
TZNAME:EDT
DTSTART:20230312T070000
END:DAYLIGHT
BEGIN:STANDARD
TZOFFSETFROM:-0400
TZOFFSETTO:-0500
TZNAME:EST
DTSTART:20231105T060000
END:STANDARD
END:VTIMEZONE
BEGIN:VEVENT
DTSTART;TZID=America/New_York:20230513T083000
DTEND;TZID=America/New_York:20230513T160000
DTSTAMP:20260419T123959
CREATED:20230420T203331Z
LAST-MODIFIED:20230420T203331Z
UID:8701-1683966600-1683993600@dmi-nj.org
SUMMARY:Discovery Men's Retreat Saturday\, May 13\, 2023 @9AM
DESCRIPTION:
URL:https://dmi-nj.org/event/discovery-mens-retreat-saturday-may-13-2023-9am/
LOCATION:Discovery House\, 3730 Richards Ave\, Mullica Township\, NJ\, 08037\, United States
ATTACH;FMTTYPE=image/jpeg:https://dmi-nj.org/wp-content/uploads/2023/04/Discovery_Mens_Retreat_Saturday_May-13-2023_9AM.jpg
END:VEVENT
END:VCALENDAR