BEGIN:VCALENDAR
VERSION:2.0
PRODID:-//Discovery Ministries, Inc. - ECPv6.9.0//NONSGML v1.0//EN
CALSCALE:GREGORIAN
METHOD:PUBLISH
X-WR-CALNAME:Discovery Ministries, Inc.
X-ORIGINAL-URL:https://dmi-nj.org
X-WR-CALDESC:Events for Discovery Ministries, Inc.
REFRESH-INTERVAL;VALUE=DURATION:PT1H
X-Robots-Tag:noindex
X-PUBLISHED-TTL:PT1H
BEGIN:VTIMEZONE
TZID:America/New_York
BEGIN:DAYLIGHT
TZOFFSETFROM:-0500
TZOFFSETTO:-0400
TZNAME:EDT
DTSTART:20230312T070000
END:DAYLIGHT
BEGIN:STANDARD
TZOFFSETFROM:-0400
TZOFFSETTO:-0500
TZNAME:EST
DTSTART:20231105T060000
END:STANDARD
END:VTIMEZONE
BEGIN:VEVENT
DTSTART;TZID=America/New_York:20230325T083000
DTEND;TZID=America/New_York:20230325T153000
DTSTAMP:20260421T080356
CREATED:20230320T043443Z
LAST-MODIFIED:20230320T043443Z
UID:8630-1679733000-1679758200@dmi-nj.org
SUMMARY:Sons of the Father Men's Lenten Retreat Saturday\, March 25\, 2023 @8:30AM
DESCRIPTION:
URL:https://dmi-nj.org/event/sons-of-the-father-mens-lenten-retreat-saturday-march-25-2023-830am/
LOCATION:Discovery House\, 3730 Richards Ave\, Mullica Township\, NJ\, 08037\, United States
ATTACH;FMTTYPE=image/jpeg:https://dmi-nj.org/wp-content/uploads/2023/03/SOF_Mens_Lenten_Retreat_Saturday_March_25_2023_830AM.jpg
END:VEVENT
END:VCALENDAR