BEGIN:VCALENDAR
VERSION:2.0
PRODID:-//Discovery Ministries, Inc. - ECPv6.9.0//NONSGML v1.0//EN
CALSCALE:GREGORIAN
METHOD:PUBLISH
X-WR-CALNAME:Discovery Ministries, Inc.
X-ORIGINAL-URL:https://dmi-nj.org
X-WR-CALDESC:Events for Discovery Ministries, Inc.
REFRESH-INTERVAL;VALUE=DURATION:PT1H
X-Robots-Tag:noindex
X-PUBLISHED-TTL:PT1H
BEGIN:VTIMEZONE
TZID:America/New_York
BEGIN:DAYLIGHT
TZOFFSETFROM:-0500
TZOFFSETTO:-0400
TZNAME:EDT
DTSTART:20220313T070000
END:DAYLIGHT
BEGIN:STANDARD
TZOFFSETFROM:-0400
TZOFFSETTO:-0500
TZNAME:EST
DTSTART:20221106T060000
END:STANDARD
END:VTIMEZONE
BEGIN:VEVENT
DTSTART;TZID=America/New_York:20220515T110000
DTEND;TZID=America/New_York:20220515T170000
DTSTAMP:20260422T040922
CREATED:20220513T154132Z
LAST-MODIFIED:20220513T154444Z
UID:7959-1652612400-1652634000@dmi-nj.org
SUMMARY:DISCOVERY HOUSE GARDENS CLEAN UP AND PLANTING DAY SUN MAY 15 2022 11AM-5PM ******
DESCRIPTION:
URL:https://dmi-nj.org/event/discovery-house-gardens-clean-up-and-planting-day-sun-may-15-2022-11am-5pm/
LOCATION:Discovery House\, 3730 Richards Ave\, Mullica Township\, NJ\, 08037\, United States
ATTACH;FMTTYPE=image/png:https://dmi-nj.org/wp-content/uploads/2022/05/FB-5-15-22_Sun.png
END:VEVENT
END:VCALENDAR