BEGIN:VCALENDAR
VERSION:2.0
PRODID:-//Discovery Ministries, Inc. - ECPv6.9.0//NONSGML v1.0//EN
CALSCALE:GREGORIAN
METHOD:PUBLISH
X-WR-CALNAME:Discovery Ministries, Inc.
X-ORIGINAL-URL:https://dmi-nj.org
X-WR-CALDESC:Events for Discovery Ministries, Inc.
REFRESH-INTERVAL;VALUE=DURATION:PT1H
X-Robots-Tag:noindex
X-PUBLISHED-TTL:PT1H
BEGIN:VTIMEZONE
TZID:America/New_York
BEGIN:DAYLIGHT
TZOFFSETFROM:-0500
TZOFFSETTO:-0400
TZNAME:EDT
DTSTART:20220313T070000
END:DAYLIGHT
BEGIN:STANDARD
TZOFFSETFROM:-0400
TZOFFSETTO:-0500
TZNAME:EST
DTSTART:20221106T060000
END:STANDARD
END:VTIMEZONE
BEGIN:VEVENT
DTSTART;TZID=America/New_York:20220507T090000
DTEND;TZID=America/New_York:20220507T170000
DTSTAMP:20260422T040857
CREATED:20220505T183403Z
LAST-MODIFIED:20220505T183403Z
UID:7947-1651914000-1651942800@dmi-nj.org
SUMMARY:DISCOVERY HOUSE GARDENS CLEAN UP AND PLANTING DAYS SAT MAY 7\, 2022 9AM-5PM & SAT MAY 15 2022 11AM-5PM
DESCRIPTION:
URL:https://dmi-nj.org/event/discovery-house-gardens-clean-up-and-planting-days-sat-may-7-2022-9am-5pm-sat-may-15-2022-11am-5pm/
LOCATION:Discovery House\, 3730 Richards Ave\, Mullica Township\, NJ\, 08037\, United States
ATTACH;FMTTYPE=image/jpeg:https://dmi-nj.org/wp-content/uploads/2022/05/DH-Cleanup.jpg
END:VEVENT
END:VCALENDAR