BEGIN:VCALENDAR
VERSION:2.0
PRODID:-//Discovery Ministries, Inc. - ECPv6.9.0//NONSGML v1.0//EN
CALSCALE:GREGORIAN
METHOD:PUBLISH
X-WR-CALNAME:Discovery Ministries, Inc.
X-ORIGINAL-URL:https://dmi-nj.org
X-WR-CALDESC:Events for Discovery Ministries, Inc.
REFRESH-INTERVAL;VALUE=DURATION:PT1H
X-Robots-Tag:noindex
X-PUBLISHED-TTL:PT1H
BEGIN:VTIMEZONE
TZID:America/New_York
BEGIN:DAYLIGHT
TZOFFSETFROM:-0500
TZOFFSETTO:-0400
TZNAME:EDT
DTSTART:20210314T070000
END:DAYLIGHT
BEGIN:STANDARD
TZOFFSETFROM:-0400
TZOFFSETTO:-0500
TZNAME:EST
DTSTART:20211107T060000
END:STANDARD
END:VTIMEZONE
BEGIN:VEVENT
DTSTART;TZID=America/New_York:20211016T080000
DTEND;TZID=America/New_York:20211016T173000
DTSTAMP:20260424T151535
CREATED:20211013T021224Z
LAST-MODIFIED:20211013T021635Z
UID:7581-1634371200-1634405400@dmi-nj.org
SUMMARY:Sons of the Father Men's Retreat - Saturday\, October 16\, 2021 @8:00am
DESCRIPTION:
URL:https://dmi-nj.org/event/sons-of-the-father-mens-retreat-saturday-october-16-2021-800am/
LOCATION:Discovery House\, 3730 Richards Ave\, Mullica Township\, NJ\, 08037\, United States
ATTACH;FMTTYPE=image/jpeg:https://dmi-nj.org/wp-content/uploads/2021/10/10-16-21-Sons-of-Father-Retreat.jpg
END:VEVENT
END:VCALENDAR