BEGIN:VCALENDAR
VERSION:2.0
PRODID:-//Discovery Ministries, Inc. - ECPv6.9.0//NONSGML v1.0//EN
CALSCALE:GREGORIAN
METHOD:PUBLISH
X-WR-CALNAME:Discovery Ministries, Inc.
X-ORIGINAL-URL:https://dmi-nj.org
X-WR-CALDESC:Events for Discovery Ministries, Inc.
REFRESH-INTERVAL;VALUE=DURATION:PT1H
X-Robots-Tag:noindex
X-PUBLISHED-TTL:PT1H
BEGIN:VTIMEZONE
TZID:America/New_York
BEGIN:DAYLIGHT
TZOFFSETFROM:-0500
TZOFFSETTO:-0400
TZNAME:EDT
DTSTART:20210314T070000
END:DAYLIGHT
BEGIN:STANDARD
TZOFFSETFROM:-0400
TZOFFSETTO:-0500
TZNAME:EST
DTSTART:20211107T060000
END:STANDARD
END:VTIMEZONE
BEGIN:VEVENT
DTSTART;TZID=America/New_York:20211014T180000
DTEND;TZID=America/New_York:20211014T200000
DTSTAMP:20260424T151537
CREATED:20210924T180722Z
LAST-MODIFIED:20210924T182127Z
UID:7559-1634234400-1634241600@dmi-nj.org
SUMMARY:Open House & Holy Rosary Thursday Oct 14\, 2021 @ 6pm
DESCRIPTION:
URL:https://dmi-nj.org/event/open-house-holy-rosary-thursday-oct-14-2021-6pm/
LOCATION:Discovery House\, 3730 Richards Ave\, Mullica Township\, NJ\, 08037\, United States
ATTACH;FMTTYPE=image/jpeg:https://dmi-nj.org/wp-content/uploads/2021/09/Rosary-Reflection-w-Chosen-101421-2.jpg
END:VEVENT
END:VCALENDAR