BEGIN:VCALENDAR
VERSION:2.0
PRODID:-//Discovery Ministries, Inc. - ECPv6.9.0//NONSGML v1.0//EN
CALSCALE:GREGORIAN
METHOD:PUBLISH
X-WR-CALNAME:Discovery Ministries, Inc.
X-ORIGINAL-URL:https://dmi-nj.org
X-WR-CALDESC:Events for Discovery Ministries, Inc.
REFRESH-INTERVAL;VALUE=DURATION:PT1H
X-Robots-Tag:noindex
X-PUBLISHED-TTL:PT1H
BEGIN:VTIMEZONE
TZID:America/New_York
BEGIN:DAYLIGHT
TZOFFSETFROM:-0500
TZOFFSETTO:-0400
TZNAME:EDT
DTSTART:20210314T070000
END:DAYLIGHT
BEGIN:STANDARD
TZOFFSETFROM:-0400
TZOFFSETTO:-0500
TZNAME:EST
DTSTART:20211107T060000
END:STANDARD
END:VTIMEZONE
BEGIN:VEVENT
DTSTART;TZID=America/New_York:20210402T150000
DTEND;TZID=America/New_York:20210402T150000
DTSTAMP:20260425T071111
CREATED:20210325T141927Z
LAST-MODIFIED:20210325T180431Z
UID:6835-1617375600-1617375600@dmi-nj.org
SUMMARY:Good Friday Service with Father Mike @3:00 PM
DESCRIPTION:
URL:https://dmi-nj.org/event/good-friday-service-300-pm/
LOCATION:Christ the Redeemer Church\, 318 Carl Hasselhan Drive\, Atco\, NJ\, 08004\, United States
END:VEVENT
BEGIN:VEVENT
DTSTART;TZID=America/New_York:20210402T183000
DTEND;TZID=America/New_York:20210402T213000
DTSTAMP:20260425T071111
CREATED:20210318T234031Z
LAST-MODIFIED:20210318T234031Z
UID:6800-1617388200-1617399000@dmi-nj.org
SUMMARY:GOOD FRIDAY Stations of the Cross with Father Mike @ Discovery House Friday April 2nd 6:30 pm
DESCRIPTION:
URL:https://dmi-nj.org/event/good-friday-stations-of-the-cross-with-father-mike-discovery-house-friday-april-2nd-630-pm/
LOCATION:Discovery House\, 3730 Richards Ave\, Mullica Township\, NJ\, 08037\, United States
ATTACH;FMTTYPE=image/jpeg:https://dmi-nj.org/wp-content/uploads/2021/03/GoodFriday_4-2-21.jpg
END:VEVENT
END:VCALENDAR