BEGIN:VCALENDAR
VERSION:2.0
PRODID:-//Discovery Ministries, Inc. - ECPv6.9.0//NONSGML v1.0//EN
CALSCALE:GREGORIAN
METHOD:PUBLISH
X-WR-CALNAME:Discovery Ministries, Inc.
X-ORIGINAL-URL:https://dmi-nj.org
X-WR-CALDESC:Events for Discovery Ministries, Inc.
REFRESH-INTERVAL;VALUE=DURATION:PT1H
X-Robots-Tag:noindex
X-PUBLISHED-TTL:PT1H
BEGIN:VTIMEZONE
TZID:America/New_York
BEGIN:DAYLIGHT
TZOFFSETFROM:-0500
TZOFFSETTO:-0400
TZNAME:EDT
DTSTART:20210314T070000
END:DAYLIGHT
BEGIN:STANDARD
TZOFFSETFROM:-0400
TZOFFSETTO:-0500
TZNAME:EST
DTSTART:20211107T060000
END:STANDARD
END:VTIMEZONE
BEGIN:VEVENT
DTSTART;TZID=America/New_York:20210401T190000
DTEND;TZID=America/New_York:20210401T190000
DTSTAMP:20260425T085006
CREATED:20210325T135131Z
LAST-MODIFIED:20210325T180340Z
UID:6828-1617303600-1617303600@dmi-nj.org
SUMMARY:Holy Thursday Evening Mass with Father Mike @7:00 PM
DESCRIPTION:
URL:https://dmi-nj.org/event/holy-thursday-evening-mass/
LOCATION:Christ the Redeemer Church\, 318 Carl Hasselhan Drive\, Atco\, NJ\, 08004\, United States
END:VEVENT
END:VCALENDAR